BEGIN:VCALENDAR
VERSION:2.0
PRODID:-//Plone.org//NONSGML plone.app.event//EN
X-WR-TIMEZONE:Europe/Rome
BEGIN:VEVENT
SUMMARY:11th Conference of the Italian Association of Agricultural and App
 lied Economics (AIEAA): CAP\, Farm to Fork and Green Deal: policy coherenc
 e\, governance\, and future challenges
DTSTART;VALUE=DATE:20220616
DTEND;VALUE=DATE:20220618
DTSTAMP;VALUE=DATE-TIME:20260423T065843Z
UID:2b16699f062847d89c58ea1d3f8f526b@distal.unibo.it
CREATED;VALUE=DATE-TIME:20220520T144548Z
DESCRIPTION:Stakeholders perception of the impact of public policies on th
 e introduction of sustainable innovation in agri-food value chains | Repre
 sentative: Riccardo Borgia\, Matteo Zavalloni\, Davide Viaggi
LAST-MODIFIED;VALUE=DATE-TIME:20220520T144655Z
URL:https://distal.unibo.it/en/events/11th-conference-of-the-italian-assoc
 iation-of-agricultural-and-applied-economics
END:VEVENT
END:VCALENDAR
