BEGIN:VCALENDAR
VERSION:2.0
PRODID:-//Plone.org//NONSGML plone.app.event//EN
X-WR-TIMEZONE:Europe/Rome
BEGIN:VEVENT
SUMMARY:22nd Meeting of the International Humic Substances Society (IHSS) 
 – The role of NOM and HS in achieving Sustainable Development Goals
DTSTART;VALUE=DATE:20240825
DTEND;VALUE=DATE:20240831
DTSTAMP;VALUE=DATE-TIME:20260420T125723Z
UID:83616e34093e4dbeb99072b5f97545cc@distal.unibo.it
CREATED;VALUE=DATE-TIME:20240417T073832Z
DESCRIPTION:Representative: Martina Mazzon
LAST-MODIFIED;VALUE=DATE-TIME:20240801T085546Z
URL:https://distal.unibo.it/en/events/22nd-meeting-of-the-international-hu
 mic-substances-society-ihss-the-role-of-nom-and-hs-in-achieving-sustainabl
 e-development-goals
END:VEVENT
END:VCALENDAR
