BEGIN:VCALENDAR
VERSION:2.0
PRODID:-//Plone.org//NONSGML plone.app.event//EN
X-WR-TIMEZONE:Europe/Rome
BEGIN:VEVENT
SUMMARY:26th EUCARPIA Maize and Sorghum Conference
DTSTART;VALUE=DATE:20250630
DTEND;VALUE=DATE:20250703
DTSTAMP;VALUE=DATE-TIME:20260425T000737Z
UID:6adc198891134f2ba81b8beca268ce8d@distal.unibo.it
CREATED;VALUE=DATE-TIME:20250613T082140Z
DESCRIPTION:Chairs: Silvio Salvi and Elisabetta Frascaroli\, Distal\, Univ
 ersity of Bologna
LAST-MODIFIED;VALUE=DATE-TIME:20250613T082302Z
URL:https://distal.unibo.it/en/events/26th-eucarpia-maize-and-sorghum-conf
 erence
END:VEVENT
END:VCALENDAR
