BEGIN:VCALENDAR
VERSION:2.0
PRODID:-//Plone.org//NONSGML plone.app.event//EN
X-WR-TIMEZONE:Europe/Rome
BEGIN:VEVENT
SUMMARY:67th Annual Congress Italian Society of Agricultural Genetics
DTSTART;VALUE=DATE:20240910
DTEND;VALUE=DATE:20240914
DTSTAMP;VALUE=DATE-TIME:20260420T162043Z
UID:cf1daa3e12204acfb6056bfebb8aa01b@distal.unibo.it
CREATED;VALUE=DATE-TIME:20240823T103827Z
DESCRIPTION:Expanding frontiers in crop genetics | Representative: Silvio 
 Salvi
LAST-MODIFIED;VALUE=DATE-TIME:20240823T104410Z
URL:https://distal.unibo.it/en/events/67th-annual-congress-italian-society
 -of-agricultural-genetics
END:VEVENT
END:VCALENDAR
