BEGIN:VCALENDAR
VERSION:2.0
PRODID:-//Plone.org//NONSGML plone.app.event//EN
X-WR-TIMEZONE:Europe/Rome
BEGIN:VEVENT
SUMMARY:A webinar to discover the "Sustainable Food Production & Consumpti
 on Summer School" (15 September – 3 October 2025\, online).
DTSTART;TZID=Europe/Rome;VALUE=DATE-TIME:20250827T100000
DTEND;TZID=Europe/Rome;VALUE=DATE-TIME:20250827T110000
DTSTAMP;VALUE=DATE-TIME:20260420T113536Z
UID:15f24dc0b6354dcea23781c918778c11@distal.unibo.it
CREATED;VALUE=DATE-TIME:20250801T134450Z
DESCRIPTION:Open to bachelor’s\, master’s\, doctoral students and earl
 y career researchers interested in food and nutrition | Representative: Gi
 ovanni Dinelli
LAST-MODIFIED;VALUE=DATE-TIME:20250808T071858Z
URL:https://distal.unibo.it/en/events/a-webinar-to-discover-the-sustainabl
 e-food-production-consumption-summer-school-15-september-3-october-2025-on
 line-1
END:VEVENT
BEGIN:VTIMEZONE
TZID:Europe/Rome
X-LIC-LOCATION:Europe/Rome
BEGIN:DAYLIGHT
DTSTART;VALUE=DATE-TIME:20250330T030000
TZNAME:CEST
TZOFFSETFROM:+0100
TZOFFSETTO:+0200
END:DAYLIGHT
END:VTIMEZONE
END:VCALENDAR
