BEGIN:VCALENDAR
VERSION:2.0
PRODID:-//Plone.org//NONSGML plone.app.event//EN
X-WR-TIMEZONE:Europe/Rome
BEGIN:VEVENT
SUMMARY:A webinar to discover the "Sustainable Food Production & Consumpti
 on Summer School" (15 September – 3 October 2025\, online).
DTSTART;TZID=Europe/Rome;VALUE=DATE-TIME:20250725T110000
DTEND;TZID=Europe/Rome;VALUE=DATE-TIME:20250725T114000
DTSTAMP;VALUE=DATE-TIME:20260420T113536Z
UID:3dc1f1bc297248e8b6b46d7a0be08a6d@distal.unibo.it
CREATED;VALUE=DATE-TIME:20250702T150632Z
DESCRIPTION:Open to bachelor’s\, master’s\, doctoral students and earl
 y career researchers interested in food and nutrition. | Representative: G
 iovanni Dinelli
LAST-MODIFIED;VALUE=DATE-TIME:20250702T150706Z
URL:https://distal.unibo.it/en/events/a-webinar-to-discover-the-sustainabl
 e-food-production-consumption-summer-school-15-september-3-october-2025-on
 line
END:VEVENT
BEGIN:VTIMEZONE
TZID:Europe/Rome
X-LIC-LOCATION:Europe/Rome
BEGIN:DAYLIGHT
DTSTART;VALUE=DATE-TIME:20250330T030000
TZNAME:CEST
TZOFFSETFROM:+0100
TZOFFSETTO:+0200
END:DAYLIGHT
END:VTIMEZONE
END:VCALENDAR
