BEGIN:VCALENDAR
VERSION:2.0
PRODID:-//Plone.org//NONSGML plone.app.event//EN
X-WR-TIMEZONE:Europe/Rome
BEGIN:VEVENT
SUMMARY:Annual Meeting of the coordinated EU H2020 FoodLAND RIA project (F
 ood and Local\, Agricultural and Nutritional Diversity)
DTSTART;VALUE=DATE:20250129
DTEND;VALUE=DATE:20250202
DTSTAMP;VALUE=DATE-TIME:20260420T192322Z
UID:47fa75531603456da22858810b7343f0@distal.unibo.it
CREATED;VALUE=DATE-TIME:20250114T091636Z
DESCRIPTION:An in-person meeting focused on the presentation\, disseminati
 on\, and exploitation of final results of the project | Representative: Va
 lentino Marini Govigli
LAST-MODIFIED;VALUE=DATE-TIME:20250121T160053Z
URL:https://distal.unibo.it/en/events/annual-meeting-of-the-coordinated-eu
 -h2020-foodland-ria-project-food-and-local-agricultural-and-nutritional-di
 versity
END:VEVENT
END:VCALENDAR
