BEGIN:VCALENDAR
VERSION:2.0
PRODID:-//Plone.org//NONSGML plone.app.event//EN
X-WR-TIMEZONE:Europe/Rome
BEGIN:VEVENT
SUMMARY:BIObec Capacity Building and 2nd International IRWG workshop
DTSTART;TZID=Europe/Rome;VALUE=DATE-TIME:20240122T100000
DTEND;TZID=Europe/Rome;VALUE=DATE-TIME:20240122T121500
DTSTAMP;VALUE=DATE-TIME:20260420T205713Z
UID:ef7e7c9083104fe3ac01c9e2a36d17d1@distal.unibo.it
CREATED;VALUE=DATE-TIME:20240109T142709Z
DESCRIPTION:Focus on the BIObec project – with Davide Viaggi and Giacomo
  Maria Rinaldi from DISTAL
LAST-MODIFIED;VALUE=DATE-TIME:20240109T142839Z
URL:https://distal.unibo.it/en/events/biobec-capacity-building-and-2nd-int
 ernational-irwg-workshop
END:VEVENT
BEGIN:VTIMEZONE
TZID:Europe/Rome
X-LIC-LOCATION:Europe/Rome
BEGIN:STANDARD
DTSTART;VALUE=DATE-TIME:20231029T020000
TZNAME:CET
TZOFFSETFROM:+0200
TZOFFSETTO:+0100
END:STANDARD
END:VTIMEZONE
END:VCALENDAR
