BEGIN:VCALENDAR
VERSION:2.0
PRODID:-//Plone.org//NONSGML plone.app.event//EN
X-WR-TIMEZONE:Europe/Rome
BEGIN:VEVENT
SUMMARY:Centennial Celebration and Congress of theInternational Union of S
 oil Sciences
DTSTART;VALUE=DATE:20240519
DTEND;VALUE=DATE:20240522
DTSTAMP;VALUE=DATE-TIME:20260420T205804Z
UID:d809abcb71fa4ae69366395518b5eb27@distal.unibo.it
CREATED;VALUE=DATE-TIME:20240123T121328Z
DESCRIPTION:100 years of soil science – past achievements and future cha
 lleges | Representative: Mauro De Feudis
LAST-MODIFIED;VALUE=DATE-TIME:20240124T092410Z
URL:https://distal.unibo.it/en/events/centennial-celebration-and-congress-
 of-theinternational-union-of-soil-sciences
END:VEVENT
END:VCALENDAR
