BEGIN:VCALENDAR
VERSION:2.0
PRODID:-//Plone.org//NONSGML plone.app.event//EN
X-WR-TIMEZONE:Europe/Rome
BEGIN:VEVENT
SUMMARY:Coopid project: virtual visit to Caviro
DTSTART;TZID=Europe/Rome;VALUE=DATE-TIME:20220627T100000
DTEND;TZID=Europe/Rome;VALUE=DATE-TIME:20220627T120000
DTSTAMP;VALUE=DATE-TIME:20260422T001604Z
UID:0add7a6a883045a99cc0d04f44d8be53@distal.unibo.it
CREATED;VALUE=DATE-TIME:20220512T215803Z
DESCRIPTION:Virtual visit to the biggest winery in Italy with a special fo
 cus on successful business model in the European bioeconomy | Representati
 ves: Fasolino Nunzia Gabriella\, Matteo Zavalloni\, Davide Viaggi
LAST-MODIFIED;VALUE=DATE-TIME:20220512T215954Z
URL:https://distal.unibo.it/en/events/coopid-project-virtual-visit-to-cavi
 ro-1
END:VEVENT
BEGIN:VTIMEZONE
TZID:Europe/Rome
X-LIC-LOCATION:Europe/Rome
BEGIN:DAYLIGHT
DTSTART;VALUE=DATE-TIME:20220327T030000
TZNAME:CEST
TZOFFSETFROM:+0100
TZOFFSETTO:+0200
END:DAYLIGHT
END:VTIMEZONE
END:VCALENDAR
