BEGIN:VCALENDAR
VERSION:2.0
PRODID:-//Plone.org//NONSGML plone.app.event//EN
X-WR-TIMEZONE:Europe/Rome
BEGIN:VEVENT
SUMMARY:EUROPEAN COST ACTION 23110 “International networking on in vitro
  colon models simulating gut (INFOGUT)”
DTSTART;VALUE=DATE:20250526
DTEND;VALUE=DATE:20250529
DTSTAMP;VALUE=DATE-TIME:20260420T113405Z
UID:403eaab159dd4a5c964230cb27799ed3@distal.unibo.it
CREATED;VALUE=DATE-TIME:20250429T082440Z
DESCRIPTION:Kick-off meeting: launch of the COST ACTION\, Working Group co
 nferences\, stakeholder round table | Representative: Andrea Gianotti
LAST-MODIFIED;VALUE=DATE-TIME:20250429T082451Z
URL:https://distal.unibo.it/en/events/european-cost-action-23110-internati
 onal-networking-on-in-vitro-colon-models-simulating-gut-infogut
END:VEVENT
END:VCALENDAR
