BEGIN:VCALENDAR
VERSION:2.0
PRODID:-//Plone.org//NONSGML plone.app.event//EN
X-WR-TIMEZONE:Europe/Rome
BEGIN:VEVENT
SUMMARY:European workshop on "Flavescence dorée"
DTSTART;TZID=Europe/Rome;VALUE=DATE-TIME:20240125T140000
DTEND;TZID=Europe/Rome;VALUE=DATE-TIME:20240126T130000
DTSTAMP;VALUE=DATE-TIME:20260420T210858Z
UID:989a52d5cd904fbc954ae3544ed66019@distal.unibo.it
CREATED;VALUE=DATE-TIME:20240108T160254Z
DESCRIPTION:Recent acquisitions and management strategies | Representative
 : Assunta Bertaccini
LAST-MODIFIED;VALUE=DATE-TIME:20240108T161046Z
URL:https://distal.unibo.it/en/events/european-workshop-on-flavescence-dor
 ee
END:VEVENT
BEGIN:VTIMEZONE
TZID:Europe/Rome
X-LIC-LOCATION:Europe/Rome
BEGIN:STANDARD
DTSTART;VALUE=DATE-TIME:20231029T020000
TZNAME:CET
TZOFFSETFROM:+0200
TZOFFSETTO:+0100
END:STANDARD
END:VTIMEZONE
END:VCALENDAR
