BEGIN:VCALENDAR
VERSION:2.0
PRODID:-//Plone.org//NONSGML plone.app.event//EN
X-WR-TIMEZONE:Europe/Rome
BEGIN:VEVENT
SUMMARY:Final Conference of the Horizon Europe CHORIZO and ZeroW Projects
DTSTART;TZID=Europe/Rome;VALUE=DATE-TIME:20250916T093000
DTEND;TZID=Europe/Rome;VALUE=DATE-TIME:20250916T180000
DTSTAMP;VALUE=DATE-TIME:20260420T220744Z
UID:8c4ee63871ef4f8485abe4eaf4f786c7@distal.unibo.it
CREATED;VALUE=DATE-TIME:20250911T103214Z
DESCRIPTION:The Horizon Europe projects CHORIZO and ZeroW will hold their 
 Final Conference on 16 September 2025 in Brussels | Representative: Matteo
  Vittuari
LAST-MODIFIED;VALUE=DATE-TIME:20250911T103353Z
URL:https://distal.unibo.it/en/events/final-conference-of-the-horizon-euro
 pe-chorizo-and-zerow-projects
END:VEVENT
BEGIN:VTIMEZONE
TZID:Europe/Rome
X-LIC-LOCATION:Europe/Rome
BEGIN:DAYLIGHT
DTSTART;VALUE=DATE-TIME:20250330T030000
TZNAME:CEST
TZOFFSETFROM:+0100
TZOFFSETTO:+0200
END:DAYLIGHT
END:VTIMEZONE
END:VCALENDAR
