BEGIN:VCALENDAR
VERSION:2.0
PRODID:-//Plone.org//NONSGML plone.app.event//EN
X-WR-TIMEZONE:Europe/Rome
BEGIN:VEVENT
SUMMARY:Food and Nutrition Security and Sustainable Agriculture (FNSSA) an
 d sister H2020 RIA project Synergy Summit
DTSTART;VALUE=DATE:20240110
DTEND;VALUE=DATE:20240112
DTSTAMP;VALUE=DATE-TIME:20260420T192322Z
UID:1081b19dd0f04c98ace69b40cc30e346@distal.unibo.it
CREATED;VALUE=DATE-TIME:20231206T160754Z
DESCRIPTION:Bridging EU-Africa project partnerships to support agro-food s
 ystem transformation
LAST-MODIFIED;VALUE=DATE-TIME:20231207T142919Z
URL:https://distal.unibo.it/en/events/food-and-nutrition-security-and-sust
 ainable-agriculture-fnssa-and-sister-h2020-ria-project-synergy-summit
END:VEVENT
END:VCALENDAR
