BEGIN:VCALENDAR
VERSION:2.0
PRODID:-//Plone.org//NONSGML plone.app.event//EN
X-WR-TIMEZONE:Europe/Rome
BEGIN:VEVENT
SUMMARY:From Management to Markets: Strategies for a Biobased and Circular
  Economy
DTSTART;TZID=Europe/Rome;VALUE=DATE-TIME:20240523T143000
DTEND;TZID=Europe/Rome;VALUE=DATE-TIME:20240523T153000
DTSTAMP;VALUE=DATE-TIME:20260420T110649Z
UID:fe79349fef7e45e997cef96302a7138e@distal.unibo.it
CREATED;VALUE=DATE-TIME:20240522T143511Z
DESCRIPTION:A meeting with Prof. Wubben (Associate Professor Strategic Man
 agement - Wageningen University & Research)\, Visiting Professor at Distal
  | Representative: Rino Ghelfi
LAST-MODIFIED;VALUE=DATE-TIME:20240522T143627Z
URL:https://distal.unibo.it/en/events/from-management-to-markets-strategie
 s-for-a-biobased-and-circular-economy
END:VEVENT
BEGIN:VTIMEZONE
TZID:Europe/Rome
X-LIC-LOCATION:Europe/Rome
BEGIN:DAYLIGHT
DTSTART;VALUE=DATE-TIME:20240331T030000
TZNAME:CEST
TZOFFSETFROM:+0100
TZOFFSETTO:+0200
END:DAYLIGHT
END:VTIMEZONE
END:VCALENDAR
