BEGIN:VCALENDAR
VERSION:2.0
PRODID:-//Plone.org//NONSGML plone.app.event//EN
X-WR-TIMEZONE:Europe/Rome
BEGIN:VEVENT
SUMMARY:Managing risk in sustainable intensification of cropping systems i
 n the Ganges Delta Coastal zon
DTSTART;TZID=Europe/Rome;VALUE=DATE-TIME:20240517T153000
DTEND;TZID=Europe/Rome;VALUE=DATE-TIME:20240517T163000
DTSTAMP;VALUE=DATE-TIME:20260420T141058Z
UID:31e66962c9b6458e938dda5a1465168b@distal.unibo.it
CREATED;VALUE=DATE-TIME:20240423T113459Z
DESCRIPTION:Richard Bell\, Murdoch University\, Perth\, Australia | Repres
 entative: Lorenzo Barbanti
LAST-MODIFIED;VALUE=DATE-TIME:20240424T164740Z
URL:https://distal.unibo.it/en/events/managing-risk-in-sustainable-intensi
 fication-of-cropping-systems-in-the-ganges-delta-coastal-zon
END:VEVENT
BEGIN:VTIMEZONE
TZID:Europe/Rome
X-LIC-LOCATION:Europe/Rome
BEGIN:DAYLIGHT
DTSTART;VALUE=DATE-TIME:20240331T030000
TZNAME:CEST
TZOFFSETFROM:+0100
TZOFFSETTO:+0200
END:DAYLIGHT
END:VTIMEZONE
END:VCALENDAR
