BEGIN:VCALENDAR
VERSION:2.0
PRODID:-//Plone.org//NONSGML plone.app.event//EN
X-WR-TIMEZONE:Europe/Rome
BEGIN:VEVENT
SUMMARY:Microbial Genomics and Metagenomics for Plant Health and Disease
DTSTART;TZID=Europe/Rome;VALUE=DATE-TIME:20250616T140000
DTEND;TZID=Europe/Rome;VALUE=DATE-TIME:20250616T150000
DTSTAMP;VALUE=DATE-TIME:20260420T113432Z
UID:d21a6f6e85c040e9b676397d214d5c8d@distal.unibo.it
CREATED;VALUE=DATE-TIME:20250613T085340Z
DESCRIPTION:The role of the microbiome in plant and animal health | Repres
 entative: Francesco Spinelli
LAST-MODIFIED;VALUE=DATE-TIME:20250613T085404Z
URL:https://distal.unibo.it/en/events/microbial-genomics-and-metagenomics-
 for-plant-health-and-disease
END:VEVENT
BEGIN:VTIMEZONE
TZID:Europe/Rome
X-LIC-LOCATION:Europe/Rome
BEGIN:DAYLIGHT
DTSTART;VALUE=DATE-TIME:20250330T030000
TZNAME:CEST
TZOFFSETFROM:+0100
TZOFFSETTO:+0200
END:DAYLIGHT
END:VTIMEZONE
END:VCALENDAR
