BEGIN:VCALENDAR
VERSION:2.0
PRODID:-//Plone.org//NONSGML plone.app.event//EN
X-WR-TIMEZONE:Europe/Rome
BEGIN:VEVENT
SUMMARY:OpenDistal 2023
DTSTART;TZID=Europe/Rome;VALUE=DATE-TIME:20230922T093000
DTEND;TZID=Europe/Rome;VALUE=DATE-TIME:20230922T190000
DTSTAMP;VALUE=DATE-TIME:20260419T201510Z
UID:3d8a9bbf104640e58211181a31ee468f@distal.unibo.it
CREATED;VALUE=DATE-TIME:20230830T164218Z
DESCRIPTION:Researchers and students meet the agri-food organizations and 
 companies
LAST-MODIFIED;VALUE=DATE-TIME:20230905T103217Z
URL:https://distal.unibo.it/en/events/opendistal-2023
END:VEVENT
BEGIN:VTIMEZONE
TZID:Europe/Rome
X-LIC-LOCATION:Europe/Rome
BEGIN:DAYLIGHT
DTSTART;VALUE=DATE-TIME:20230326T030000
TZNAME:CEST
TZOFFSETFROM:+0100
TZOFFSETTO:+0200
END:DAYLIGHT
END:VTIMEZONE
END:VCALENDAR
