BEGIN:VCALENDAR
VERSION:2.0
PRODID:-//Plone.org//NONSGML plone.app.event//EN
X-WR-TIMEZONE:Europe/Rome
BEGIN:VEVENT
SUMMARY:Orchard sustainable irrigation
DTSTART;TZID=Europe/Rome;VALUE=DATE-TIME:20230712T090000
DTEND;TZID=Europe/Rome;VALUE=DATE-TIME:20230712T160000
DTSTAMP;VALUE=DATE-TIME:20260422T134843Z
UID:002cc2240af844ed846ffce53cc5a13e@distal.unibo.it
CREATED;VALUE=DATE-TIME:20230626T092050Z
DESCRIPTION:From ETc\, to soil-plant technologies\, to remote sensing: an 
 international workshop to get to know and discuss the different DSSs for o
 rchard irrigation scheduling
LAST-MODIFIED;VALUE=DATE-TIME:20230626T095258Z
URL:https://distal.unibo.it/en/events/orchard-sustainable-irrigation
END:VEVENT
BEGIN:VTIMEZONE
TZID:Europe/Rome
X-LIC-LOCATION:Europe/Rome
BEGIN:DAYLIGHT
DTSTART;VALUE=DATE-TIME:20230326T030000
TZNAME:CEST
TZOFFSETFROM:+0100
TZOFFSETTO:+0200
END:DAYLIGHT
END:VTIMEZONE
END:VCALENDAR
