BEGIN:VCALENDAR
VERSION:2.0
PRODID:-//Plone.org//NONSGML plone.app.event//EN
X-WR-TIMEZONE:Europe/Rome
BEGIN:VEVENT
SUMMARY:Seminar on Plant Factories with Artificial Lighting (PFALs) in Men
 glun
DTSTART;VALUE=DATE:20250926
DTEND;VALUE=DATE:20250927
DTSTAMP;VALUE=DATE-TIME:20260421T014439Z
UID:59b116e3c4df4164aceb5493d6368223@distal.unibo.it
CREATED;VALUE=DATE-TIME:20250918T082543Z
DESCRIPTION:A dedicated seminar for Master and Ph.D. students of Chinese A
 cademy of Science held by professor Francesco Orsini
LAST-MODIFIED;VALUE=DATE-TIME:20250918T082553Z
URL:https://distal.unibo.it/en/events/seminar-on-plant-factories-with-arti
 ficial-lighting-pfals-in-menglun
END:VEVENT
END:VCALENDAR
