BEGIN:VCALENDAR
VERSION:2.0
PRODID:-//Plone.org//NONSGML plone.app.event//EN
X-WR-TIMEZONE:Europe/Rome
BEGIN:VEVENT
SUMMARY:SUITMA13
DTSTART;VALUE=DATE:20251005
DTEND;VALUE=DATE:20251010
DTSTAMP;VALUE=DATE-TIME:20260420T232324Z
UID:f940320ee9aa486eb898b11199f9c2e8@distal.unibo.it
CREATED;VALUE=DATE-TIME:20250325T110011Z
DESCRIPTION:13th international conference on Soils of Urban\, Industrial\,
  Traffic\, Mining and Military Areas | Representative: Giuseppe Picca
LAST-MODIFIED;VALUE=DATE-TIME:20250325T110310Z
URL:https://distal.unibo.it/en/events/suitma13
END:VEVENT
END:VCALENDAR
