BEGIN:VCALENDAR
VERSION:2.0
PRODID:-//Plone.org//NONSGML plone.app.event//EN
X-WR-TIMEZONE:Europe/Rome
BEGIN:VEVENT
SUMMARY:The 9th International Congress of Rabbit Biotechnology and Large A
 nimal Models for Translational Research
DTSTART;VALUE=DATE:20240809
DTEND;VALUE=DATE:20240813
DTSTAMP;VALUE=DATE-TIME:20260420T162043Z
UID:f940a7e5bca94993a1d94a010a0dcd4a@distal.unibo.it
CREATED;VALUE=DATE-TIME:20240716T144344Z
DESCRIPTION:Invited Speaker: Luca Fontanesi from DISTAL. Lecture entitled:
  “Rabbit genomics comes of age: exploring and exploiting the diversity o
 f different rabbit genetic resources
LAST-MODIFIED;VALUE=DATE-TIME:20240716T144518Z
URL:https://distal.unibo.it/en/events/the-9th-international-congress-of-ra
 bbit-biotechnology-and-large-animal-models-for-translational-research
END:VEVENT
END:VCALENDAR
