BEGIN:VCALENDAR
VERSION:2.0
PRODID:-//Plone.org//NONSGML plone.app.event//EN
X-WR-TIMEZONE:Europe/Rome
BEGIN:VEVENT
SUMMARY:2P4S2F Summer School
DTSTART;TZID=Europe/Rome;VALUE=DATE-TIME:20250623T084000
DTEND;TZID=Europe/Rome;VALUE=DATE-TIME:20250627T160000
DTSTAMP;VALUE=DATE-TIME:20260424T210224Z
UID:c5edb93675254108aab0cbfe4944b045@distal.unibo.it
CREATED;VALUE=DATE-TIME:20250328T152431Z
DESCRIPTION:Summer School on Plant Pathogenomics for a Sustainable Future 
 of Food | Referente: Riccardo Baroncelli
LAST-MODIFIED;VALUE=DATE-TIME:20250328T152720Z
URL:https://distal.unibo.it/it/eventi/2p4s2f-summer-school
END:VEVENT
BEGIN:VTIMEZONE
TZID:Europe/Rome
X-LIC-LOCATION:Europe/Rome
BEGIN:DAYLIGHT
DTSTART;VALUE=DATE-TIME:20250330T030000
TZNAME:CEST
TZOFFSETFROM:+0100
TZOFFSETTO:+0200
END:DAYLIGHT
END:VTIMEZONE
END:VCALENDAR
