BEGIN:VCALENDAR
VERSION:2.0
PRODID:-//Plone.org//NONSGML plone.app.event//EN
X-WR-TIMEZONE:Europe/Rome
BEGIN:VEVENT
SUMMARY:4th International Congress “Food Quality\, Technology and Safety
 ” and 18th International Symposium ‘’Feed Technology’’ 
DTSTART;VALUE=DATE:20181023
DTEND;VALUE=DATE:20181026
DTSTAMP;VALUE=DATE-TIME:20260423T051633Z
UID:5c1c63e8088444e29cb7e3ab168f31da@distal.unibo.it
CREATED;VALUE=DATE-TIME:20180928T111428Z
LAST-MODIFIED;VALUE=DATE-TIME:20180928T111444Z
URL:https://distal.unibo.it/it/eventi/4th-international-congress-201cfood-
 quality-technology-and-safety201d-and-18th-international-symposium-2018201
 9feed-technology20192019
END:VEVENT
END:VCALENDAR
