BEGIN:VCALENDAR
VERSION:2.0
PRODID:-//Plone.org//NONSGML plone.app.event//EN
X-WR-TIMEZONE:Europe/Rome
BEGIN:VEVENT
SUMMARY:5th International Symposium on Lipid Oxidation and Antioxidants
DTSTART;VALUE=DATE:20240708
DTEND;VALUE=DATE:20240711
DTSTAMP;VALUE=DATE-TIME:20260422T191844Z
UID:c7b5ae17fa194b36994b17561c4f7a6c@distal.unibo.it
CREATED;VALUE=DATE-TIME:20240628T162055Z
DESCRIPTION:Congress Chairs: Riccardo Amorati (CIAMICIAN) and Maria Teresa
  Rodriguez Estrada (DISTAL)
LAST-MODIFIED;VALUE=DATE-TIME:20240628T162909Z
URL:https://distal.unibo.it/it/eventi/5th-international-symposium-on-lipid
 -oxidation-and-antioxidants
END:VEVENT
END:VCALENDAR
