BEGIN:VCALENDAR
VERSION:2.0
PRODID:-//Plone.org//NONSGML plone.app.event//EN
X-WR-TIMEZONE:Europe/Rome
BEGIN:VEVENT
SUMMARY:7th INTERNATIONAL WHOLE GRAIN SUMMIT 2021
DTSTART;TZID=Europe/Rome;VALUE=DATE-TIME:20211025T090000
DTEND;TZID=Europe/Rome;VALUE=DATE-TIME:20211027T170000
DTSTAMP;VALUE=DATE-TIME:20260419T235110Z
UID:384a364d5b3e4dcf898ecb448d30a8d3@distal.unibo.it
CREATED;VALUE=DATE-TIME:20210927T081900Z
DESCRIPTION:Idee e modi per tradurre la conoscenza scientifica e tecnologi
 ca disponibile in applicazione.
LAST-MODIFIED;VALUE=DATE-TIME:20210927T082136Z
URL:https://distal.unibo.it/it/eventi/7th-international-whole-grain-summit
 -2021
END:VEVENT
BEGIN:VTIMEZONE
TZID:Europe/Rome
X-LIC-LOCATION:Europe/Rome
BEGIN:DAYLIGHT
DTSTART;VALUE=DATE-TIME:20210328T030000
TZNAME:CEST
TZOFFSETFROM:+0100
TZOFFSETTO:+0200
END:DAYLIGHT
END:VTIMEZONE
END:VCALENDAR
