BEGIN:VCALENDAR
VERSION:2.0
PRODID:-//Plone.org//NONSGML plone.app.event//EN
X-WR-TIMEZONE:Europe/Rome
BEGIN:VEVENT
SUMMARY:A4OI – Agritech 4 Open Innovation
DTSTART;TZID=Europe/Rome;VALUE=DATE-TIME:20250703T090000
DTEND;TZID=Europe/Rome;VALUE=DATE-TIME:20250703T190000
DTSTAMP;VALUE=DATE-TIME:20260425T122745Z
UID:df7d1f99c76a4be7a6747ab382a81e72@distal.unibo.it
CREATED;VALUE=DATE-TIME:20250613T091054Z
DESCRIPTION:Una piattaforma dinamica per la condivisione | Referente: Luca
  Corelli Grappadelli
LAST-MODIFIED;VALUE=DATE-TIME:20250627T124550Z
URL:https://distal.unibo.it/it/eventi/a4oi-agritech-4-open-innovation
END:VEVENT
BEGIN:VTIMEZONE
TZID:Europe/Rome
X-LIC-LOCATION:Europe/Rome
BEGIN:DAYLIGHT
DTSTART;VALUE=DATE-TIME:20250330T030000
TZNAME:CEST
TZOFFSETFROM:+0100
TZOFFSETTO:+0200
END:DAYLIGHT
END:VTIMEZONE
END:VCALENDAR
