BEGIN:VCALENDAR
VERSION:2.0
PRODID:-//Plone.org//NONSGML plone.app.event//EN
X-WR-TIMEZONE:Europe/Rome
BEGIN:VEVENT
SUMMARY:AI-driven solutions for renewable energy production and environmen
 tal sustainability
DTSTART;TZID=Europe/Rome;VALUE=DATE-TIME:20250612T140000
DTEND;TZID=Europe/Rome;VALUE=DATE-TIME:20250612T180000
DTSTAMP;VALUE=DATE-TIME:20260420T131250Z
UID:d6990e5af6364627ae883eb06d61ca32@distal.unibo.it
CREATED;VALUE=DATE-TIME:20250530T095638Z
DESCRIPTION:#eugreenweek | Referente: Francesca Valenti
LAST-MODIFIED;VALUE=DATE-TIME:20250530T095924Z
URL:https://distal.unibo.it/it/eventi/ai-driven-solutions-for-renewable-en
 ergy-production-and-environmental-sustainability
END:VEVENT
BEGIN:VTIMEZONE
TZID:Europe/Rome
X-LIC-LOCATION:Europe/Rome
BEGIN:DAYLIGHT
DTSTART;VALUE=DATE-TIME:20250330T030000
TZNAME:CEST
TZOFFSETFROM:+0100
TZOFFSETTO:+0200
END:DAYLIGHT
END:VTIMEZONE
END:VCALENDAR
