BEGIN:VCALENDAR
VERSION:2.0
PRODID:-//Plone.org//NONSGML plone.app.event//EN
X-WR-TIMEZONE:Europe/Rome
BEGIN:VEVENT
SUMMARY:Annual General Meetings  of EFFAB and FABRE-TP 
DTSTART;VALUE=DATE:20180522
DTEND;VALUE=DATE:20180524
DTSTAMP;VALUE=DATE-TIME:20260419T153918Z
UID:d00ca1eb6541428abd8b7a986d6aad37@distal.unibo.it
CREATED;VALUE=DATE-TIME:20180427T070339Z
LAST-MODIFIED;VALUE=DATE-TIME:20180427T070807Z
URL:https://distal.unibo.it/it/eventi/annual-general-meetings-of-effab-and
 -fabre
END:VEVENT
END:VCALENDAR
