BEGIN:VCALENDAR
VERSION:2.0
PRODID:-//Plone.org//NONSGML plone.app.event//EN
X-WR-TIMEZONE:Europe/Rome
BEGIN:VEVENT
SUMMARY:Banche dati dei suoli e webgis divulgativi: il caso studio PNRR Be
 BeRoots Project (Dr Massimo Gherardi - Boreal mapping)
DTSTART;TZID=Europe/Rome;VALUE=DATE-TIME:20251112T143000
DTEND;TZID=Europe/Rome;VALUE=DATE-TIME:20251112T170000
DTSTAMP;VALUE=DATE-TIME:20260426T050503Z
UID:ba2cb09de5884ac5ae1b6cf707096595@distal.unibo.it
CREATED;VALUE=DATE-TIME:20251030T102252Z
DESCRIPTION:Il Seminario è parte delle attività dell’insegnamento «Se
 nsibilità e Vulnerabilità del suolo e delle acque» (PROGESA) | Referent
 e: Livia Vittori Antisari
LAST-MODIFIED;VALUE=DATE-TIME:20251031T092553Z
URL:https://distal.unibo.it/it/eventi/banche-dati-dei-suoli-e-webgis-divul
 gativi-il-caso-studio-pnrr-beberoots-project-dr-massimo-gherardi-boreal-ma
 pping
END:VEVENT
BEGIN:VTIMEZONE
TZID:Europe/Rome
X-LIC-LOCATION:Europe/Rome
BEGIN:STANDARD
DTSTART;VALUE=DATE-TIME:20251026T020000
TZNAME:CET
TZOFFSETFROM:+0200
TZOFFSETTO:+0100
END:STANDARD
END:VTIMEZONE
END:VCALENDAR
