BEGIN:VCALENDAR
VERSION:2.0
PRODID:-//Plone.org//NONSGML plone.app.event//EN
X-WR-TIMEZONE:Europe/Rome
BEGIN:VEVENT
SUMMARY:Cambiamento climatico e forestazione: gli orientamenti della regio
 ne Emilia-Romagna
DTSTART;TZID=Europe/Rome;VALUE=DATE-TIME:20251111T113000
DTEND;TZID=Europe/Rome;VALUE=DATE-TIME:20251111T133000
DTSTAMP;VALUE=DATE-TIME:20260425T192551Z
UID:f19c43ad803d4c809ce76a9afcfc4b8f@distal.unibo.it
CREATED;VALUE=DATE-TIME:20251017T093458Z
DESCRIPTION:Dr. Roberto Diolaiti - Settore Aree Protette\, Foreste e Svilu
 ppo Zone Montane\, Regione Emilia-Romagna | Referente: Marco Setti
LAST-MODIFIED;VALUE=DATE-TIME:20251017T093714Z
URL:https://distal.unibo.it/it/eventi/cambiamento-climatico-e-forestazione
 -gli-orientamenti-della-regione-emilia-romagna
END:VEVENT
BEGIN:VTIMEZONE
TZID:Europe/Rome
X-LIC-LOCATION:Europe/Rome
BEGIN:STANDARD
DTSTART;VALUE=DATE-TIME:20251026T020000
TZNAME:CET
TZOFFSETFROM:+0200
TZOFFSETTO:+0100
END:STANDARD
END:VTIMEZONE
END:VCALENDAR
