BEGIN:VCALENDAR
VERSION:2.0
PRODID:-//Plone.org//NONSGML plone.app.event//EN
X-WR-TIMEZONE:Europe/Rome
BEGIN:VEVENT
SUMMARY:Can we control intumescence injury in tomatoes grown under LED lig
 ht?
DTSTART;TZID=Europe/Rome;VALUE=DATE-TIME:20210715T120000
DTEND;TZID=Europe/Rome;VALUE=DATE-TIME:20210715T150000
DTSTAMP;VALUE=DATE-TIME:20260420T113156Z
UID:205adecf79a64a11b5adbc7fff11fc55@distal.unibo.it
CREATED;VALUE=DATE-TIME:20210618T205227Z
DESCRIPTION:Webinar dell’International Society for Horticultural Science
  (ISHS) dedicati al Vertical farming\, organizzati dal Prof. Francesco Ors
 ini.
LAST-MODIFIED;VALUE=DATE-TIME:20210618T205343Z
URL:https://distal.unibo.it/it/eventi/can-we-control-intumescence-injury-i
 n-tomatoes-grown-under-led-light
END:VEVENT
BEGIN:VTIMEZONE
TZID:Europe/Rome
X-LIC-LOCATION:Europe/Rome
BEGIN:DAYLIGHT
DTSTART;VALUE=DATE-TIME:20210328T030000
TZNAME:CEST
TZOFFSETFROM:+0100
TZOFFSETTO:+0200
END:DAYLIGHT
END:VTIMEZONE
END:VCALENDAR
