BEGIN:VCALENDAR
VERSION:2.0
PRODID:-//Plone.org//NONSGML plone.app.event//EN
X-WR-TIMEZONE:Europe/Rome
BEGIN:VEVENT
SUMMARY:Centennial Celebration and Congress of the International Union of 
 Soil Sciences (IUSS)
DTSTART;VALUE=DATE:20240519
DTEND;VALUE=DATE:20240522
DTSTAMP;VALUE=DATE-TIME:20260420T224150Z
UID:a16e6b6f86ab45a1bbc86f522e32177e@distal.unibo.it
CREATED;VALUE=DATE-TIME:20240122T093500Z
DESCRIPTION:100 years of soil science – past achievements and future cha
 lleges | Referente: Mauro de Feudis
LAST-MODIFIED;VALUE=DATE-TIME:20240124T092409Z
URL:https://distal.unibo.it/it/eventi/centennial-celebration-and-congress-
 of-theinternational-union-of-soil-sciences
END:VEVENT
END:VCALENDAR
