BEGIN:VCALENDAR
VERSION:2.0
PRODID:-//Plone.org//NONSGML plone.app.event//EN
X-WR-TIMEZONE:Europe/Rome
BEGIN:VEVENT
SUMMARY:Convegno FORESTA E SUOLO: BIODIVERSITÀ\, CONSERVAZIONE\, RISORSE
DTSTART;VALUE=DATE:20190625
DTEND;VALUE=DATE:20190628
DTSTAMP;VALUE=DATE-TIME:20260421T122842Z
UID:dcd576dd63214b5bb28ffa3317436ede@distal.unibo.it
CREATED;VALUE=DATE-TIME:20190701T070903Z
DESCRIPTION:Organizzato dall'Accademia Nazionale di Agricoltura in collabo
 razione con il Dipartimento di\nScienze e Tecnologie Agro-Alimentari
LAST-MODIFIED;VALUE=DATE-TIME:20190701T070923Z
URL:https://distal.unibo.it/it/eventi/convegno-foresta-e-suolo-biodiversit
 a-conservazione-risorse
END:VEVENT
END:VCALENDAR
