BEGIN:VCALENDAR
VERSION:2.0
PRODID:-//Plone.org//NONSGML plone.app.event//EN
X-WR-TIMEZONE:Europe/Rome
BEGIN:VEVENT
SUMMARY:CoRE-SFS 2025 Webinar Series. From Data to Decisions: Modelling a 
 Sustainable Future for Food Systems
DTSTART;TZID=Europe/Rome;VALUE=DATE-TIME:20250718T110000
DTEND;TZID=Europe/Rome;VALUE=DATE-TIME:20250718T120000
DTSTAMP;VALUE=DATE-TIME:20260426T013612Z
UID:4bfd052f06554792a3bd2e89177f12e6@distal.unibo.it
CREATED;VALUE=DATE-TIME:20250409T113645Z
DESCRIPTION:Webinar Africa-Europe Cluster of Research Excellence in Sustai
 nable Food Systems (CoRE-SFS) | Referente: Brunella Morandi
LAST-MODIFIED;VALUE=DATE-TIME:20250409T113925Z
URL:https://distal.unibo.it/it/eventi/core-sfs-2025-webinar-series-from-da
 ta-to-decisions-modelling-a-sustainable-future-for-food-systems
END:VEVENT
BEGIN:VTIMEZONE
TZID:Europe/Rome
X-LIC-LOCATION:Europe/Rome
BEGIN:DAYLIGHT
DTSTART;VALUE=DATE-TIME:20250330T030000
TZNAME:CEST
TZOFFSETFROM:+0100
TZOFFSETTO:+0200
END:DAYLIGHT
END:VTIMEZONE
END:VCALENDAR
