BEGIN:VCALENDAR
VERSION:2.0
PRODID:-//Plone.org//NONSGML plone.app.event//EN
X-WR-TIMEZONE:Europe/Rome
BEGIN:VEVENT
SUMMARY:CoRE-SFS 2025 Webinar Series. Roots of Power: Navigating Land\, Eq
 uity\, and Sustainability in Food Systems
DTSTART;TZID=Europe/Rome;VALUE=DATE-TIME:20250919T110000
DTEND;TZID=Europe/Rome;VALUE=DATE-TIME:20250919T120000
DTSTAMP;VALUE=DATE-TIME:20260420T174117Z
UID:7aed34e9dba44ef5b6489a5e7fab4194@distal.unibo.it
CREATED;VALUE=DATE-TIME:20250409T113407Z
DESCRIPTION:Webinar Africa-Europe Cluster of Research Excellence in Sustai
 nable Food Systems (CoRE-SFS) | Referente: Brunella Morandi
LAST-MODIFIED;VALUE=DATE-TIME:20250409T113504Z
URL:https://distal.unibo.it/it/eventi/core-sfs-2025-webinar-series-roots-o
 f-power-navigating-land-equity-and-sustainability-in-food-systems
END:VEVENT
BEGIN:VTIMEZONE
TZID:Europe/Rome
X-LIC-LOCATION:Europe/Rome
BEGIN:DAYLIGHT
DTSTART;VALUE=DATE-TIME:20250330T030000
TZNAME:CEST
TZOFFSETFROM:+0100
TZOFFSETTO:+0200
END:DAYLIGHT
END:VTIMEZONE
END:VCALENDAR
