BEGIN:VCALENDAR
VERSION:2.0
PRODID:-//Plone.org//NONSGML plone.app.event//EN
X-WR-TIMEZONE:Europe/Rome
BEGIN:VEVENT
SUMMARY:Developing skills in the bio-based industries: future bioeconomy e
 ducation pathways
DTSTART;TZID=Europe/Rome;VALUE=DATE-TIME:20231207T090000
DTEND;TZID=Europe/Rome;VALUE=DATE-TIME:20231207T104500
DTSTAMP;VALUE=DATE-TIME:20260421T002832Z
UID:a422e916ae6c43ac9c1dea7f15b921e0@distal.unibo.it
CREATED;VALUE=DATE-TIME:20231123T095436Z
DESCRIPTION:BIObec project – with Davide Viaggi (Project Coordinator) an
 d Rino Ghelfi from DISTAL
LAST-MODIFIED;VALUE=DATE-TIME:20231123T095834Z
URL:https://distal.unibo.it/it/eventi/developing-skills-in-the-bio-based-i
 ndustries-future-bioeconomy-education-pathways
END:VEVENT
BEGIN:VTIMEZONE
TZID:Europe/Rome
X-LIC-LOCATION:Europe/Rome
BEGIN:STANDARD
DTSTART;VALUE=DATE-TIME:20231029T020000
TZNAME:CET
TZOFFSETFROM:+0200
TZOFFSETTO:+0100
END:STANDARD
END:VTIMEZONE
END:VCALENDAR
