BEGIN:VCALENDAR
VERSION:2.0
PRODID:-//Plone.org//NONSGML plone.app.event//EN
X-WR-TIMEZONE:Europe/Rome
BEGIN:VEVENT
SUMMARY:E-commerce: dalla old economy alla new economy
DTSTART;TZID=Europe/Rome;VALUE=DATE-TIME:20161216T160000
DTEND;TZID=Europe/Rome;VALUE=DATE-TIME:20161216T173000
DTSTAMP;VALUE=DATE-TIME:20260419T140727Z
UID:b65c358a4267412dbd2071bd8644ace1@distal.unibo.it
CREATED;VALUE=DATE-TIME:20161230T154411Z
LAST-MODIFIED;VALUE=DATE-TIME:20161230T154419Z
URL:https://distal.unibo.it/it/eventi/e-commerce-dalla-old-economy-alla-ne
 w-economy
END:VEVENT
BEGIN:VTIMEZONE
TZID:Europe/Rome
X-LIC-LOCATION:Europe/Rome
BEGIN:STANDARD
DTSTART;VALUE=DATE-TIME:20161030T020000
TZNAME:CET
TZOFFSETFROM:+0200
TZOFFSETTO:+0100
END:STANDARD
END:VTIMEZONE
END:VCALENDAR
