BEGIN:VCALENDAR
VERSION:2.0
PRODID:-//Plone.org//NONSGML plone.app.event//EN
X-WR-TIMEZONE:Europe/Rome
BEGIN:VEVENT
SUMMARY:EMERGE – from soil to glass
DTSTART;TZID=Europe/Rome;VALUE=DATE-TIME:20240215T093000
DTEND;TZID=Europe/Rome;VALUE=DATE-TIME:20240215T123000
DTSTAMP;VALUE=DATE-TIME:20260422T134843Z
UID:c4ef9414e3e548bab4c3153c62513fa1@distal.unibo.it
CREATED;VALUE=DATE-TIME:20240119T114635Z
DESCRIPTION:Workshop di presentazione del progetto PRIN 2022 | Referente: 
 Elena Baldi
LAST-MODIFIED;VALUE=DATE-TIME:20240126T095754Z
URL:https://distal.unibo.it/it/eventi/emerge-from-soil-to-glass
END:VEVENT
BEGIN:VTIMEZONE
TZID:Europe/Rome
X-LIC-LOCATION:Europe/Rome
BEGIN:STANDARD
DTSTART;VALUE=DATE-TIME:20231029T020000
TZNAME:CET
TZOFFSETFROM:+0200
TZOFFSETTO:+0100
END:STANDARD
END:VTIMEZONE
END:VCALENDAR
