BEGIN:VCALENDAR
VERSION:2.0
PRODID:-//Plone.org//NONSGML plone.app.event//EN
X-WR-TIMEZONE:Europe/Rome
BEGIN:VEVENT
SUMMARY:Esame finale dottorato in Scienze e Tecnologie Agrarie\, Ambiental
 i e Alimentari (36° ciclo) – Tematica di “Agronomia\, Sistemi Erbacei
  e Ortofloricoli\, Genetica Agraria e Chimica Agraria”\, “Ecologia Mic
 robica e Patologia Vegetale” e “Water-Food-Energy-Sustainable Agricult
 ure Nexus”
DTSTART;TZID=Europe/Rome;VALUE=DATE-TIME:20240326T100000
DTEND;TZID=Europe/Rome;VALUE=DATE-TIME:20240326T130000
DTSTAMP;VALUE=DATE-TIME:20260420T111842Z
UID:12ae072de7c04f30af40650b88680029@distal.unibo.it
CREATED;VALUE=DATE-TIME:20240308T105130Z
DESCRIPTION:Sessione Primaverile 2024 | Referente: Massimiliano Petracci
LAST-MODIFIED;VALUE=DATE-TIME:20240325T095127Z
URL:https://distal.unibo.it/it/eventi/esame-finale-dottorato-in-scienze-e-
 tecnologie-agrarie-ambientali-e-alimentari-36-ciclo-tematica-di-agronomia-
 sistemi-erbacei-e-ortofloricoli-genetica-agraria-e-chimica-agraria-ecologi
 a-microbica-e-patologia-vegetale-e-water-food-energy-sustainable
END:VEVENT
BEGIN:VTIMEZONE
TZID:Europe/Rome
X-LIC-LOCATION:Europe/Rome
BEGIN:STANDARD
DTSTART;VALUE=DATE-TIME:20231029T020000
TZNAME:CET
TZOFFSETFROM:+0200
TZOFFSETTO:+0100
END:STANDARD
END:VTIMEZONE
END:VCALENDAR
