BEGIN:VCALENDAR
VERSION:2.0
PRODID:-//Plone.org//NONSGML plone.app.event//EN
X-WR-TIMEZONE:Europe/Rome
BEGIN:VEVENT
SUMMARY:Faenza orienta
DTSTART;TZID=Europe/Rome;VALUE=DATE-TIME:20250927T080000
DTEND;TZID=Europe/Rome;VALUE=DATE-TIME:20250927T120000
DTSTAMP;VALUE=DATE-TIME:20260424T150924Z
UID:263698b3a5224227921a606e8f104023@distal.unibo.it
CREATED;VALUE=DATE-TIME:20250915T065104Z
DESCRIPTION:La presentazione dei corsi di laurea del DISTAL | Referente: G
 iuseppina Parpinello
LAST-MODIFIED;VALUE=DATE-TIME:20250915T103426Z
URL:https://distal.unibo.it/it/eventi/faenza-orienta
END:VEVENT
BEGIN:VTIMEZONE
TZID:Europe/Rome
X-LIC-LOCATION:Europe/Rome
BEGIN:DAYLIGHT
DTSTART;VALUE=DATE-TIME:20250330T030000
TZNAME:CEST
TZOFFSETFROM:+0100
TZOFFSETTO:+0200
END:DAYLIGHT
END:VTIMEZONE
END:VCALENDAR
