BEGIN:VCALENDAR
VERSION:2.0
PRODID:-//Plone.org//NONSGML plone.app.event//EN
X-WR-TIMEZONE:Europe/Rome
BEGIN:VEVENT
SUMMARY:Festival del biologico e della sostenibilità
DTSTART;TZID=Europe/Rome;VALUE=DATE-TIME:20251119T150000
DTEND;TZID=Europe/Rome;VALUE=DATE-TIME:20251122T140000
DTSTAMP;VALUE=DATE-TIME:20260425T233406Z
UID:0648dddcae554f93b1922113f0e61c31@distal.unibo.it
CREATED;VALUE=DATE-TIME:20251112T102928Z
LAST-MODIFIED;VALUE=DATE-TIME:20251117T085514Z
URL:https://distal.unibo.it/it/eventi/festival-del-biologico-e-della-soste
 nibilita
END:VEVENT
BEGIN:VTIMEZONE
TZID:Europe/Rome
X-LIC-LOCATION:Europe/Rome
BEGIN:STANDARD
DTSTART;VALUE=DATE-TIME:20251026T020000
TZNAME:CET
TZOFFSETFROM:+0200
TZOFFSETTO:+0100
END:STANDARD
END:VTIMEZONE
END:VCALENDAR
