BEGIN:VCALENDAR
VERSION:2.0
PRODID:-//Plone.org//NONSGML plone.app.event//EN
X-WR-TIMEZONE:Europe/Rome
BEGIN:VEVENT
SUMMARY:Giornate Fitopatologiche 2024
DTSTART;VALUE=DATE:20240312
DTEND;VALUE=DATE:20240316
DTSTAMP;VALUE=DATE-TIME:20260422T184716Z
UID:a764efed4f0d4348bbd4c40d670234b8@distal.unibo.it
CREATED;VALUE=DATE-TIME:20240221T114306Z
DESCRIPTION:12-15 Marzo 2024 | Referente: Marina Collina
LAST-MODIFIED;VALUE=DATE-TIME:20240221T114526Z
URL:https://distal.unibo.it/it/eventi/giornate-fitopatologiche-2024
END:VEVENT
END:VCALENDAR
