BEGIN:VCALENDAR
VERSION:2.0
PRODID:-//Plone.org//NONSGML plone.app.event//EN
X-WR-TIMEZONE:Europe/Rome
BEGIN:VEVENT
SUMMARY:II WORKSHOP NAZIONALE SULLE ECTOMICORRIZE
DTSTART;TZID=Europe/Rome;VALUE=DATE-TIME:20151019T000000
DTEND;TZID=Europe/Rome;VALUE=DATE-TIME:20151021T000000
DTSTAMP;VALUE=DATE-TIME:20260421T123759Z
UID:c0a4b8171a154349987525925afbb773@distal.unibo.it
CREATED;VALUE=DATE-TIME:20151127T065336Z
DESCRIPTION:Unione Micologica Italiana - Dipartimento di Scienze Agrarie (
 UNIBO) - Dipartimento di Scienze Agrarie e Forestali (UNIPA)
LAST-MODIFIED;VALUE=DATE-TIME:20151127T065415Z
URL:https://distal.unibo.it/it/eventi/ii-workshop-nazionale-sulle-ectomico
 rrize
END:VEVENT
BEGIN:VTIMEZONE
TZID:Europe/Rome
X-LIC-LOCATION:Europe/Rome
BEGIN:DAYLIGHT
DTSTART;VALUE=DATE-TIME:20150329T030000
TZNAME:CEST
TZOFFSETFROM:+0100
TZOFFSETTO:+0200
END:DAYLIGHT
END:VTIMEZONE
END:VCALENDAR
