BEGIN:VCALENDAR
VERSION:2.0
PRODID:-//Plone.org//NONSGML plone.app.event//EN
X-WR-TIMEZONE:Europe/Rome
BEGIN:VEVENT
SUMMARY:IL BILANCIO FITOSANITARIO 2016 e 2017 DEL PERO
DTSTART;TZID=Europe/Rome;VALUE=DATE-TIME:20180213T093000
DTEND;TZID=Europe/Rome;VALUE=DATE-TIME:20180213T133000
DTSTAMP;VALUE=DATE-TIME:20260421T142225Z
UID:cba040a957cc4353b0138ebddb1e4405@distal.unibo.it
CREATED;VALUE=DATE-TIME:20180111T131344Z
DESCRIPTION:AIPP (Associazione Italiana per la Protezione delle Piante)\,\
 nin collaborazione con Giornate Fitopatologiche e Regione Emilia-Romagna.
LAST-MODIFIED;VALUE=DATE-TIME:20180111T131411Z
URL:https://distal.unibo.it/it/eventi/il-bilancio-fitosanitario-2016-e-201
 7-del-pero
END:VEVENT
BEGIN:VTIMEZONE
TZID:Europe/Rome
X-LIC-LOCATION:Europe/Rome
BEGIN:STANDARD
DTSTART;VALUE=DATE-TIME:20171029T020000
TZNAME:CET
TZOFFSETFROM:+0200
TZOFFSETTO:+0100
END:STANDARD
END:VTIMEZONE
END:VCALENDAR
