BEGIN:VCALENDAR
VERSION:2.0
PRODID:-//Plone.org//NONSGML plone.app.event//EN
X-WR-TIMEZONE:Europe/Rome
BEGIN:VEVENT
SUMMARY:“In punta di piedi” –  Un viaggio a passo di danza nella pit
 tura e nella scultura
DTSTART;TZID=Europe/Rome;VALUE=DATE-TIME:20220329T180000
DTEND;TZID=Europe/Rome;VALUE=DATE-TIME:20220329T193000
DTSTAMP;VALUE=DATE-TIME:20260420T192244Z
UID:4d402b1efe1349c8868f00b54d28f37a@distal.unibo.it
CREATED;VALUE=DATE-TIME:20220322T200028Z
DESCRIPTION:Le Case della Scienza\,  XIV edizione: “In Movimento” (27 
 marzo – 3 aprile\, 2022) - Referente: Maria Grazia Bellardi
LAST-MODIFIED;VALUE=DATE-TIME:20220322T200353Z
URL:https://distal.unibo.it/it/eventi/in-punta-di-piedi-un-viaggio-a-passo
 -di-danza-nella-pittura-e-nella-scultura
END:VEVENT
BEGIN:VTIMEZONE
TZID:Europe/Rome
X-LIC-LOCATION:Europe/Rome
BEGIN:DAYLIGHT
DTSTART;VALUE=DATE-TIME:20220327T030000
TZNAME:CEST
TZOFFSETFROM:+0100
TZOFFSETTO:+0200
END:DAYLIGHT
END:VTIMEZONE
END:VCALENDAR
