BEGIN:VCALENDAR
VERSION:2.0
PRODID:-//Plone.org//NONSGML plone.app.event//EN
X-WR-TIMEZONE:Europe/Rome
BEGIN:VEVENT
SUMMARY:Incontro tecnico: "Vite: il virus del Pinot grigio problematica em
 ergente"
DTSTART;VALUE=DATE:20181217
DTEND;VALUE=DATE:20181218
DTSTAMP;VALUE=DATE-TIME:20260419T140532Z
UID:5c6bb4b21ae14451987c1f9ec25b8c9f@distal.unibo.it
CREATED;VALUE=DATE-TIME:20181229T081300Z
LAST-MODIFIED;VALUE=DATE-TIME:20181229T081326Z
URL:https://distal.unibo.it/it/eventi/incontro-tecnico-vite-il-virus-del-p
 inot-grigio-problematica-emergente
END:VEVENT
END:VCALENDAR
