BEGIN:VCALENDAR
VERSION:2.0
PRODID:-//Plone.org//NONSGML plone.app.event//EN
X-WR-TIMEZONE:Europe/Rome
BEGIN:VEVENT
SUMMARY:Magistralmente
DTSTART;TZID=Europe/Rome;VALUE=DATE-TIME:20220303T100000
DTEND;TZID=Europe/Rome;VALUE=DATE-TIME:20220304T180000
DTSTAMP;VALUE=DATE-TIME:20260420T154550Z
UID:e2494cede2e0454090c27520be1229dd@distal.unibo.it
CREATED;VALUE=DATE-TIME:20220216T145232Z
DESCRIPTION:Evento di orientamento sulle lauree magistrali dell’Universi
 tà di Bologna. Referenti: Maria Luisa Dindo e Chiara Cevoli
LAST-MODIFIED;VALUE=DATE-TIME:20220216T145548Z
URL:https://distal.unibo.it/it/eventi/magistralmente
END:VEVENT
BEGIN:VTIMEZONE
TZID:Europe/Rome
X-LIC-LOCATION:Europe/Rome
BEGIN:STANDARD
DTSTART;VALUE=DATE-TIME:20211031T020000
TZNAME:CET
TZOFFSETFROM:+0200
TZOFFSETTO:+0100
END:STANDARD
END:VTIMEZONE
END:VCALENDAR
