BEGIN:VCALENDAR
VERSION:2.0
PRODID:-//Plone.org//NONSGML plone.app.event//EN
X-WR-TIMEZONE:Europe/Rome
BEGIN:VEVENT
SUMMARY:Master di I Livello: "Difesa del Verde Ornamentale per Produzioni 
 e Progettazioni Ecosostenibili"
DTSTART;TZID=Europe/Rome;VALUE=DATE-TIME:20181027T093000
DTEND;TZID=Europe/Rome;VALUE=DATE-TIME:20181027T133000
DTSTAMP;VALUE=DATE-TIME:20260423T015103Z
UID:ac8c9bb922db413792452617e9904e8c@distal.unibo.it
CREATED;VALUE=DATE-TIME:20180928T110148Z
LAST-MODIFIED;VALUE=DATE-TIME:20180928T110208Z
URL:https://distal.unibo.it/it/eventi/master-di-i-livello-difesa-del-verde
 -ornamentale-per-produzioni-e-progettazioni-ecosostenibili
END:VEVENT
BEGIN:VTIMEZONE
TZID:Europe/Rome
X-LIC-LOCATION:Europe/Rome
BEGIN:DAYLIGHT
DTSTART;VALUE=DATE-TIME:20180325T030000
TZNAME:CEST
TZOFFSETFROM:+0100
TZOFFSETTO:+0200
END:DAYLIGHT
END:VTIMEZONE
END:VCALENDAR
