BEGIN:VCALENDAR
VERSION:2.0
PRODID:-//Plone.org//NONSGML plone.app.event//EN
X-WR-TIMEZONE:Europe/Rome
BEGIN:VEVENT
SUMMARY:Notte dei ricercatori 2025 - Progetti PNRR DISTAL
DTSTART;TZID=Europe/Rome;VALUE=DATE-TIME:20250926T180000
DTEND;TZID=Europe/Rome;VALUE=DATE-TIME:20250926T235500
DTSTAMP;VALUE=DATE-TIME:20260425T185921Z
UID:ba9654220629465a8f2f74aa1f0f1e85@distal.unibo.it
CREATED;VALUE=DATE-TIME:20250915T102636Z
DESCRIPTION:I gruppi di ricerca del DISTAL incontreranno la cittadinanza i
 n un evento di Terza Missione finalizzato a divulgare la scienza divertend
 o | Referente: Martina Zappaterra
LAST-MODIFIED;VALUE=DATE-TIME:20250915T103244Z
URL:https://distal.unibo.it/it/eventi/notte-dei-ricercatori-2025-progetti-
 pnrr-distal
END:VEVENT
BEGIN:VTIMEZONE
TZID:Europe/Rome
X-LIC-LOCATION:Europe/Rome
BEGIN:DAYLIGHT
DTSTART;VALUE=DATE-TIME:20250330T030000
TZNAME:CEST
TZOFFSETFROM:+0100
TZOFFSETTO:+0200
END:DAYLIGHT
END:VTIMEZONE
END:VCALENDAR
